BEGIN:VCALENDAR
VERSION:2.0
PRODID:-//ChamberMaster//Event Calendar 2.0//EN
METHOD:PUBLISH
X-PUBLISHED-TTL:P3D
REFRESH-INTERVAL:P3D
CALSCALE:GREGORIAN
BEGIN:VEVENT
DTSTART:20270511T170000Z
DTEND:20270511T181500Z
X-MICROSOFT-CDO-ALLDAYEVENT:FALSE
SUMMARY:Business Success Circle
DESCRIPTION:We're excited to announce the launch of the Business Success Circle for Petersburg-area business professionals!\n\nStarting Tuesday\, June 9\, the Business Success Circle will meet every 2nd Tuesday of the month from 1:00 PM   2:15 PM. These monthly gatherings will be held at People's Advantage Federal Credit Union\, located at 110 Wagner Road\, Petersburg\, VA 23805.\n\nThe Business Success Circle provides a dedicated space for local business owners and professionals to network\, collaborate\, and share insights with peers.\n\nThis is an opportunity to:\n\n\n	Build meaningful relationships with fellow Petersburg business leaders\n	Collaborate on ideas\, challenges\, and opportunities\n	Strengthen and support the local business community\n\n\nWhether you're an established business owner or just getting started\, you're invited to join us and be part of a supportive\, growth-focused circle.\n\nMore details to come we look forward to connecting with you!
X-ALT-DESC;FMTTYPE=text/html:<div style="color: rgb(0\, 0\, 0)\; font-family: &quot\;Segoe UI&quot\;\; font-size: 14px\; line-height: 20px\;">\n<p><span style="font-size:20px\;">We&rsquo\;re excited to announce the launch of the <strong>Business Success Circle</strong> for Petersburg-area business professionals!</span></p>\n\n<p><span style="font-size:20px\;">Starting <strong>Tuesday\, June 9</strong>\, the Business Success Circle will meet <strong>every 2nd Tuesday of the month</strong> from <strong>1:00 PM &ndash\; 2:15 PM</strong>. These monthly gatherings will be held at <strong>People&rsquo\;s Advantage Federal Credit Union</strong>\, located at <strong>110 Wagner Road\, Petersburg\, VA 23805</strong>.</span></p>\n\n<p><span style="font-size:20px\;">The Business Success Circle provides a dedicated space for local business owners and professionals to <strong>network\, collaborate\, and share insights with peers</strong>.</span></p>\n\n<p><span style="font-size:20px\;">This is an opportunity to:</span></p>\n\n<ul>\n	<li><span style="font-size:20px\;">Build meaningful relationships with fellow Petersburg business leaders</span></li>\n	<li><span style="font-size:20px\;">Collaborate on ideas\, challenges\, and opportunities</span></li>\n	<li><span style="font-size:20px\;">Strengthen and support the local business community</span></li>\n</ul>\n\n<p><span style="font-size:20px\;">Whether you&rsquo\;re an established business owner or just getting started\, you&rsquo\;re invited to join us and be part of a supportive\, growth-focused circle.</span></p>\n\n<p><span style="font-size:20px\;">More details to come&mdash\;we look forward to connecting with you!</span></p>\n</div>\n
LOCATION:Peoples Advantage Federal Credit Union 110 Wagner Road Petersburg\, VA 23805
UID:e.720.14502
SEQUENCE:3
DTSTAMP:20260420T185322Z
URL:https://business.sovachamber.com/events/details/business-success-circle-05-11-2027-14502
END:VEVENT

END:VCALENDAR
