BEGIN:VCALENDAR
VERSION:2.0
PRODID:-//ChamberMaster//Event Calendar 2.0//EN
METHOD:PUBLISH
X-PUBLISHED-TTL:P3D
REFRESH-INTERVAL:P3D
CALSCALE:GREGORIAN
BEGIN:VEVENT
DTSTART:20261216T140000Z
DTEND:20261216T153000Z
X-MICROSOFT-CDO-ALLDAYEVENT:FALSE
SUMMARY:Dinwiddie Business Round Table
DESCRIPTION:Connect with fellow entrepreneurs\, share ideas\, and explore opportunities to grow and strengthen our local business community. Whether you're a seasoned business owner or just starting out\, your voice matters!
X-ALT-DESC;FMTTYPE=text/html:<span style="color: rgb(8\, 8\, 9)\; font-family: &quot\;Segoe UI Historic&quot\;\, &quot\;Segoe UI&quot\;\, Helvetica\, Arial\, sans-serif\; font-size: 15px\; background-color: rgb(255\, 255\, 255)\;">Connect with fellow entrepreneurs\, share ideas\, and explore opportunities to grow and strengthen our local business community. Whether you&#39\;re a seasoned business owner or just starting out\, your voice matters!</span>
LOCATION:Eastside Community Enhancement Center 7301 Boydton Plank Road North Dinwiddie\, VA 23803
UID:e.720.14314
SEQUENCE:3
DTSTAMP:20260420T093003Z
URL:https://business.sovachamber.com/events/details/dinwiddie-business-round-table-12-16-2026-14314
END:VEVENT

END:VCALENDAR
