BEGIN:VCALENDAR
VERSION:2.0
PRODID:-//ChamberMaster//Event Calendar 2.0//EN
METHOD:PUBLISH
X-PUBLISHED-TTL:P3D
REFRESH-INTERVAL:P3D
CALSCALE:GREGORIAN
BEGIN:VEVENT
DTSTART:20261215T163000Z
DTEND:20261215T180000Z
X-MICROSOFT-CDO-ALLDAYEVENT:FALSE
SUMMARY:Monthly Luncheon
DESCRIPTION:Join us for the SOVA Chamber of Commerce Monthly Luncheon\, a wonderful opportunity to connect\, collaborate\, and celebrate our vibrant business community!
X-ALT-DESC;FMTTYPE=text/html:<div class="xdj266r x11i5rnm xat24cr x1mh8g0r x1vvkbs" style="margin: 0px\; overflow-wrap: break-word\; font-family: inherit\;"><span class="x193iq5w xeuugli x13faqbe x1vvkbs x1xmvt09 x1lliihq x1s928wv xhkezso x1gmr53x x1cpjm7i x1fgarty x1943h6x xudqn12 x3x7a5m x6prxxf xvq8zen xo1l8bm xzsf02u" dir="auto" style="overflow-wrap: break-word\; max-width: 100%\; word-break: break-word\; display: block\; font-family: &quot\;Segoe UI Historic&quot\;\, &quot\;Segoe UI&quot\;\, Helvetica\, Arial\, sans-serif\; font-size: 0.9375rem\; line-height: 1.3333\; color: var(--primary-text)\; min-width: 0px\; margin-top: 16px\;"><span style="font-size:18px\;">Join us for the SOVA&nbsp\;Chamber of Commerce Monthly Luncheon\, a wonderful opportunity to connect\, collaborate\, and celebrate our vibrant business community!</span></span></div>\n
LOCATION:Dinwiddie\, VA
UID:e.720.14278
SEQUENCE:3
DTSTAMP:20260420T092515Z
URL:https://business.sovachamber.com/events/details/monthly-luncheon-12-15-2026-14278
END:VEVENT

END:VCALENDAR
