BEGIN:VCALENDAR
VERSION:2.0
PRODID:-//ChamberMaster//Event Calendar 2.0//EN
METHOD:PUBLISH
X-PUBLISHED-TTL:P3D
REFRESH-INTERVAL:P3D
CALSCALE:GREGORIAN
BEGIN:VEVENT
DTSTART:20260429T210000Z
DTEND:20260429T230000Z
X-MICROSOFT-CDO-ALLDAYEVENT:FALSE
SUMMARY:Next Gen Leaders Evening Social
DESCRIPTION:Join us Wednesday\, 4/29 from 5 7 PM at Trapezium Brewery for our next Next Gen Leaders meeting as we merge with the Petersburg Networking Club! No speaker this time! Just great conversation\, networking\, and a good time with local professionals. Hope to see you there!
X-ALT-DESC;FMTTYPE=text/html:<span style="font-size:20px\;"><span style="color: rgb(8\, 8\, 9)\; font-family: &quot\;Segoe UI Historic&quot\;\, &quot\;Segoe UI&quot\;\, Helvetica\, Arial\, sans-serif\; background-color: rgb(255\, 255\, 255)\;">Join us Wednesday\, 4/29 from 5&ndash\;7 PM at Trapezium Brewery for our next Next Gen Leaders meeting as we merge with the Petersburg Networking Club! No speaker this time! Just great conversation\, networking\, and a good time with local professionals. Hope to see you there!&nbsp\;</span></span>
LOCATION:Trapezium Brewing Company 241 Pelham Street Petersburg\, VA 23803
UID:e.720.14504
SEQUENCE:3
DTSTAMP:20260420T191024Z
URL:https://business.sovachamber.com/events/details/next-gen-leaders-evening-social-14504
END:VEVENT

END:VCALENDAR
