BEGIN:VCALENDAR
VERSION:2.0
PRODID:-//ChamberMaster//Event Calendar 2.0//EN
METHOD:PUBLISH
X-PUBLISHED-TTL:P3D
REFRESH-INTERVAL:P3D
CALSCALE:GREGORIAN
BEGIN:VEVENT
DTSTART:20250325T140000Z
DTEND:20250325T160000Z
X-MICROSOFT-CDO-ALLDAYEVENT:FALSE
SUMMARY:SWaM Lab with the Virginia Department of SBSD
DESCRIPTION:Join us and the Virginia Department of SBSD for a hands-on Lab to complete small business certification.
X-ALT-DESC;FMTTYPE=text/html:Join us and the Virginia Department of SBSD for a hands-on Lab to complete small business certification.&nbsp\;
LOCATION:Lynchburg\, VA
UID:e.720.14146
SEQUENCE:3
DTSTAMP:20260421T095450Z
URL:https://business.sovachamber.com/events/details/swam-lab-with-the-virginia-department-of-sbsd-14146
END:VEVENT

END:VCALENDAR
